BEGIN:VCALENDAR
VERSION:2.0
PRODID:-//Carmen Dufol - ECPv5.0.0.2//NONSGML v1.0//EN
CALSCALE:GREGORIAN
METHOD:PUBLISH
X-WR-CALNAME:Carmen Dufol
X-ORIGINAL-URL:https://www.carmendufol.com
X-WR-CALDESC:Eventos para Carmen Dufol
BEGIN:VTIMEZONE
TZID:Europe/Madrid
BEGIN:DAYLIGHT
TZOFFSETFROM:+0100
TZOFFSETTO:+0200
TZNAME:CEST
DTSTART:20210328T010000
END:DAYLIGHT
BEGIN:STANDARD
TZOFFSETFROM:+0200
TZOFFSETTO:+0100
TZNAME:CET
DTSTART:20211031T010000
END:STANDARD
END:VTIMEZONE
BEGIN:VEVENT
DTSTART;TZID=Europe/Madrid:20210907T190000
DTEND;TZID=Europe/Madrid:20210907T203000
DTSTAMP:20260419T130935
CREATED:20191213T132732Z
LAST-MODIFIED:20210729T101047Z
UID:4260-1631041200-1631046600@www.carmendufol.com
SUMMARY:¿Sabes lo que quieres?
DESCRIPTION:		\n						\n						\n					\n			\n						\n				\n					"No sé lo que quiero\, pero sí sé lo que no quiero"\n				\n				\n				\n				\n							\n			\n						\n		\n						\n				\n				\n				\n									¿Te suena esta frase? Muchos hemos estado un poco  deistraidos alguna temporarda\, nos hemos dejado llevar por lo que tocaba\, y hemos ido avanzando así\, siguiendo las instrucciones de lo que nosdeciann los padres\, los profesores\, lo que creías que la sociedad esperaba de ti. Y así han ido pasando los días\, o los años\, hasta que en un moemnto dado \, ha pasado algo que te ha hecho despertar y te has dado cuenta que la vida que tienes no es la vida que quieres\, y empiezas a ponerte excusas para no cambiar. Total ya\, no estoy bien\, pero estoy cómodo\, ufff\, que lío ahora cambiar… o qué pensará mi familia\, mi pareja\, mis amigos\, mis jefes\, mis compañero de trabajo…ppensarñan que estoy loco\, o peor\, que soy un inconscient\, un inmaduro\, que no sé lo que quiero\, que tego un buen a trabajo\, una buena pareja …que con la buena vida que tengo… Ja. Eso será una buena vida para elos\, pero tú\, te has dado cuenta\, queno es la vida que quieres.   ¿Te das cuenta de lo rápido que pasa el tiempo?Seguramente ya te habrás planteado los retos típicos de cada año… si\, esos de dejar de fumar\, hacer deporte\, perder peso\, cuidarte un poco más\, cambiar de trabajo\, etc… pero ¿estás segura de que eso es lo que de verdad quieres?  Ahora vamos a ponernos serios. ¿Por qué  tienes los mismos objetivos año tras año? ¿ Por qué no los consigues? ¿Qué te falta? Este es un taller para averiguar y profundizar:   ¿Qué quieres de verdad?Grupo de trabajo ON LINE desde Barcelona.  Próximamente.    ⏰ A determinar   €  00 € IVA Incl.             ⇒ Máx. 6 Personas Invierte en tí y consigue lo que de verdad quieres\, eso que has ido guardando en el baúl de los recuerdos. En esta jornada te guiaré para que consigas:  Descubrir qué quieres de verdad\, qué quieres hacer en tu vida o de tu vida  Saber por qué no consigues lo que quieres   Recuperar tu valentía y la confianza para :  Identificar tus deseos reales.  Superar miedos\, dolor\, frenos y bloqueos.  Que tu ‘yo’ del año que viene esté orgullosa de tu recorrido y tus logros.                                           ______________________________________________________________________________________________________________________________________ Para reservas o consultas\, contacta conmigo y te atenderé encantada:   Whatts: 606458880  hola@carmendufol.com  https://www.carmendufol.com/evento/sabes-lo-que-quieres 								\n				\n				\n				\n							\n			\n						\n		\n						\n				\n					\n		\n					\n		\n				\n						\n					\n			\n						\n				\n									Si piensas que esto puede interesarte\, haz la preinscripción  sin compromiso\, y te avisaremos cuando concretemos fechas y horarios.								\n				\n					\n		\n					\n		\n				\n						\n					\n			\n						\n				\n							\n			\n			\n			\n\n							\n			\n			\n								\n												\n								Nombre							\n														\n											\n								\n												\n								Email							\n														\n											\n								\n												\n								Mensaje							\n										\n								\n												\n								Me interesa preinscribirme!!! 							\n						 				\n								\n					\n						\n															\n																										\n																						Send\n													\n					\n				\n			\n		\n						\n				\n					\n		\n					\n		\n				\n		
URL:https://www.carmendufol.com/evento/sabes-lo-que-quieres/
CATEGORIES:Grupo de trabajo
ATTACH;FMTTYPE=image/jpeg:https://www.carmendufol.com/wp-content/uploads/2019/12/caleb-frith-129986-unsplash-scaled.jpg
ORGANIZER;CN="Carmen%20Dufol":MAILTO:hola@carmendufol.com
END:VEVENT
END:VCALENDAR